    BEGIN:VCALENDAR
VERSION:2.0
PRODID:-//Cheap RV Living - ECPv6.2.9//NONSGML v1.0//EN
CALSCALE:GREGORIAN
METHOD:PUBLISH
X-ORIGINAL-URL:https://cheaprvliving.com
X-WR-CALDESC:Events for Cheap RV Living
REFRESH-INTERVAL;VALUE=DURATION:PT1H
X-Robots-Tag:noindex
X-PUBLISHED-TTL:PT1H
BEGIN:VTIMEZONE
TZID:America/Denver
BEGIN:DAYLIGHT
TZOFFSETFROM:-0700
TZOFFSETTO:-0600
TZNAME:MDT
DTSTART:20220313T090000
END:DAYLIGHT
BEGIN:STANDARD
TZOFFSETFROM:-0600
TZOFFSETTO:-0700
TZNAME:MST
DTSTART:20221106T080000
END:STANDARD
END:VTIMEZONE
BEGIN:VEVENT
DTSTART;VALUE=DATE:20220407
DTEND;VALUE=DATE:20220418
DTSTAMP:20260423T175958
CREATED:20220209T230258Z
LAST-MODIFIED:20220227T212200Z
UID:13071-1649289600-1650239999@cheaprvliving.com
SUMMARY:Skoolie Festival in Troy NC
DESCRIPTION:Troy NC Skoolie Event\nTraining Center and Mid Atlantic Nomads would like to invite all of you to Troy North Carolina April 7th until 17th where we are having a skoolie family event to show people of the area a different way to enjoy life.\nThis event it taking place on the beautiful property of Training Center in Troy NC with plenty of space for over 100 rigs (van\, trailer\, campers\, RV and Skoolies).\nThe entrance fee is $25 per rig and no extra charge for vendors. This is for 10 days\, the main event it 2 days but we can stay camp together for another 8 days if we help the property owners do some mowing on the property. There’s an Easter Event the following Saturday. We can enter the best decorated Skoolie RV or van contest. Kids will have a Easter egg hunt. Everyone is bringing a dish for a large community Easter dinner. The fee is just to cover the cost of the event and wish we didn’t have to.\nThere are going to be a lot of things to do such as:\nDIY Classes\nKids Crafts\nHelping others\nVendors\nBig Creek 4×4 Ride $45 dollars a spot\nAnd we are open for more ideas to add to it.\nOur goal is to get to know each other\, to show our different builds and share the public a different way to enjoy life. To promote some builders to help some people to be able to create their dreams if they are unable to do a build themselves. Also share information on how to do different builds to fit into your way of life.\nSo please register for a spot.  \nhttps://docs.google.com/document/d/1wBd1C4VYzWlTFFy2iURTk0QTgY0Yog9ks2ZKmEbRNPg/mobilebasic \nReach Debora Bare 7044679312\nOr message the Skoolie Festival page.\nWe can’t wait to meet everyone \nRules and Check In and Out Information:\nCheck In April 7starts at Noon\nCheck out is April 17 at noon\nFee for the weekend is $25.00\nNo water/electric/or dumping 100% primitive There is water on site for jugs.\nNo fire pits Only one place to build a fire.\nPets on leash at all times and please clean up after your pet\nQuiet time starts at 10pm\nPlease put trash in the trash cans and not on the ground.\nNo drinking or drugs.\nNo golf carts\,dirt bikes\,or 4 wheelers\nThe Training Center\,lil Rampage\,OEX\, are not responsible for camper\,tent\,skoolie\, lost or stolen items\,accidents or injury.\nYou can be asked to leave if rules are broken and no refund\nThe Outpost is across the street and has diesel and almost all camping gear.\nWalmart is 30 minutes away.
URL:https://cheaprvliving.com/event/skoolie-festival-in-troy-nc/
ORGANIZER;CN="Training center &amp%3Bamp%3B Mid Atlantic Nomads":MAILTO:Lil rampageoffroad@gmail.com
END:VEVENT
END:VCALENDAR